BEGIN:VCALENDAR
VERSION:2.0
PRODID:-//AFRISO business - espaces de coworking en Alsace - ECPv6.15.20//NONSGML v1.0//EN
CALSCALE:GREGORIAN
METHOD:PUBLISH
X-WR-CALNAME:AFRISO business - espaces de coworking en Alsace
X-ORIGINAL-URL:https://afrisobusiness.com
X-WR-CALDESC:Évènements pour AFRISO business - espaces de coworking en Alsace
REFRESH-INTERVAL;VALUE=DURATION:PT1H
X-Robots-Tag:noindex
X-PUBLISHED-TTL:PT1H
BEGIN:VTIMEZONE
TZID:UTC
BEGIN:STANDARD
TZOFFSETFROM:+0000
TZOFFSETTO:+0000
TZNAME:UTC
DTSTART:20210101T000000
END:STANDARD
END:VTIMEZONE
BEGIN:VEVENT
DTSTART;TZID=UTC:20221006T080000
DTEND;TZID=UTC:20221006T170000
DTSTAMP:20260421T140213
CREATED:20221006T145857Z
LAST-MODIFIED:20230324T152243Z
UID:1791-1665043200-1665075600@afrisobusiness.com
SUMMARY:Petite salle de réunion VIP 12 personnes
DESCRIPTION:La petite salle de réunion VIP\nSurface de 46.70 m² et comporte 12 sièges
URL:https://afrisobusiness.com/event/petite-salle-de-reunion-vip-12-personnes/
ATTACH;FMTTYPE=image/jpeg:https://afrisobusiness.com/wp-content/uploads/2020/07/furniture.jpg
END:VEVENT
END:VCALENDAR